BEGIN:VCALENDAR
VERSION:2.0
PRODID:-//Contratero//ES
CALSCALE:GREGORIAN
METHOD:PUBLISH
BEGIN:VEVENT
UID:CB 001/2026@contratero.es
DTSTAMP:20260420T152750Z
DTSTART:20260220T235959
DTEND:20260221T005959
SUMMARY:Cierre: Suministro de licencias de software de productivid
DESCRIPTION:Suministro de licencias de software de productividad y colaboración para Empresa Municipal de la Vivienda y Suelo de Madrid\, S.A.\\n\\nOrganismo: Empresa Municipal de la Vivienda y Suelo de Madrid\, S.A.\\n\\nVer en Contratero: https://contratero.es/contracts/CB 001/2026
URL:https://contratero.es/contracts/CB 001/2026
STATUS:CONFIRMED
BEGIN:VALARM
TRIGGER:-P1D
ACTION:DISPLAY
DESCRIPTION:Recordatorio: Suministro de licencias de sof
END:VALARM
END:VEVENT
END:VCALENDAR